BEGIN:VCALENDAR
VERSION:2.0
PRODID:-//SERL - ECPv6.15.16//NONSGML v1.0//EN
CALSCALE:GREGORIAN
METHOD:PUBLISH
X-ORIGINAL-URL:https://sregionlaval.ca
X-WR-CALDESC:Événements pour SERL
REFRESH-INTERVAL;VALUE=DURATION:PT1H
X-Robots-Tag:noindex
X-PUBLISHED-TTL:PT1H
BEGIN:VTIMEZONE
TZID:America/New_York
BEGIN:DAYLIGHT
TZOFFSETFROM:-0500
TZOFFSETTO:-0400
TZNAME:EDT
DTSTART:20220313T070000
END:DAYLIGHT
BEGIN:STANDARD
TZOFFSETFROM:-0400
TZOFFSETTO:-0500
TZNAME:EST
DTSTART:20221106T060000
END:STANDARD
BEGIN:DAYLIGHT
TZOFFSETFROM:-0500
TZOFFSETTO:-0400
TZNAME:EDT
DTSTART:20230312T070000
END:DAYLIGHT
BEGIN:STANDARD
TZOFFSETFROM:-0400
TZOFFSETTO:-0500
TZNAME:EST
DTSTART:20231105T060000
END:STANDARD
BEGIN:DAYLIGHT
TZOFFSETFROM:-0500
TZOFFSETTO:-0400
TZNAME:EDT
DTSTART:20240310T070000
END:DAYLIGHT
BEGIN:STANDARD
TZOFFSETFROM:-0400
TZOFFSETTO:-0500
TZNAME:EST
DTSTART:20241103T060000
END:STANDARD
END:VTIMEZONE
BEGIN:VEVENT
DTSTART;TZID=America/New_York:20231109T183000
DTEND;TZID=America/New_York:20231109T183000
DTSTAMP:20260420T094330
CREATED:20231024T151320Z
LAST-MODIFIED:20231119T192559Z
UID:20175-1699554600-1699554600@sregionlaval.ca
SUMMARY:Acheter ma première propriété - DESJARDINS
DESCRIPTION:Commanditaire du colloque pédagogique du Syndicat de l’enseignement de la région de Laval\, la caisse Desjardins de l’éducation offre des conférences cet automne. \nLe 9 novembre\, 18h30 : Acheter ma première propriété \n \n\n\n\nSiège social\n9405\, rue Sherbrooke Est\nBureau 2500\nMontréal (Québec) H1L 6P3
URL:https://sregionlaval.ca/event/acheter-ma-premiere-propriete-desjardins/
LOCATION:Québec
CATEGORIES:Évènements
END:VEVENT
END:VCALENDAR