BEGIN:VCALENDAR
VERSION:2.0
PRODID:-//SERL - ECPv6.15.16//NONSGML v1.0//EN
CALSCALE:GREGORIAN
METHOD:PUBLISH
X-WR-CALNAME:SERL
X-ORIGINAL-URL:https://sregionlaval.ca
X-WR-CALDESC:Événements pour SERL
REFRESH-INTERVAL;VALUE=DURATION:PT1H
X-Robots-Tag:noindex
X-PUBLISHED-TTL:PT1H
BEGIN:VTIMEZONE
TZID:America/New_York
BEGIN:DAYLIGHT
TZOFFSETFROM:-0500
TZOFFSETTO:-0400
TZNAME:EDT
DTSTART:20220313T070000
END:DAYLIGHT
BEGIN:STANDARD
TZOFFSETFROM:-0400
TZOFFSETTO:-0500
TZNAME:EST
DTSTART:20221106T060000
END:STANDARD
BEGIN:DAYLIGHT
TZOFFSETFROM:-0500
TZOFFSETTO:-0400
TZNAME:EDT
DTSTART:20230312T070000
END:DAYLIGHT
BEGIN:STANDARD
TZOFFSETFROM:-0400
TZOFFSETTO:-0500
TZNAME:EST
DTSTART:20231105T060000
END:STANDARD
BEGIN:DAYLIGHT
TZOFFSETFROM:-0500
TZOFFSETTO:-0400
TZNAME:EDT
DTSTART:20240310T070000
END:DAYLIGHT
BEGIN:STANDARD
TZOFFSETFROM:-0400
TZOFFSETTO:-0500
TZNAME:EST
DTSTART:20241103T060000
END:STANDARD
END:VTIMEZONE
BEGIN:VEVENT
DTSTART;TZID=America/New_York:20230531T170000
DTEND;TZID=America/New_York:20230531T190000
DTSTAMP:20260420T163020
CREATED:20230421T140259Z
LAST-MODIFIED:20231119T192559Z
UID:17535-1685552400-1685559600@sregionlaval.ca
SUMMARY:Comment voir son nom inscrit sur la liste de priorité? AUX ENSEIGNANTES ET AUX ENSEIGNANTS À STATUT PRÉCAIRE (Secteur jeunes)
DESCRIPTION:Comment voir son nom inscrit sur la liste de priorité? \nAfin de vous familiariser avec les notions reliées à la liste de priorité\, nous organisons une formation à l’intention des enseignantes et enseignants qui ne sont pas encore inscrits sur cette liste. Les enseignantes et les enseignants intéressés à mieux connaître ce sujet\, de même que tous les stagiaires sont les bienvenus.  Les personnes déléguées ou les mentors peuvent également vous accompagner. \nLors de cette rencontre\, nous préciserons les types et le nombre de contrats qui permettent d’accéder à la liste de priorité d’emploi. Nous expliquerons aussi le cheminement prévu à la politique d’embauche et identifierons les pièges à éviter. Finalement\, nous répondrons à vos questions afin de vous aider à mieux saisir vos droits. \nJour :            Mercredi\, 31 mai 2023 \nHeure :         17 h à 19 h  \nEndroit :    Syndicat de l’enseignement de la région de Laval\n                    1717\, rue Fleetwood\, Laval\nUn goûter sera servi dès 16 h 30 pour permettre le début de la formation à 17 h. \nVeuillez\, s’il vous plaît\, confirmer votre présence auprès du secrétariat du Syndicat de l’enseignement de la région de Laval par téléphone\, au 450 978-1513 ou par courriel\, à reception@sregionlaval.ca. \n  \nVoir l’invitation officielle ICI
URL:https://sregionlaval.ca/event/aux-enseignantes-et-aux-enseignants-a-statut-precaire-secteur-jeunes/
LOCATION:Syndicat de l’enseignement de la région de Laval\, 1717 rue Fleetwood\, Laval
CATEGORIES:Évènements
END:VEVENT
END:VCALENDAR