BEGIN:VCALENDAR
VERSION:2.0
PRODID:-//SERL - ECPv6.15.16//NONSGML v1.0//EN
CALSCALE:GREGORIAN
METHOD:PUBLISH
X-ORIGINAL-URL:https://sregionlaval.ca
X-WR-CALDESC:Événements pour SERL
REFRESH-INTERVAL;VALUE=DURATION:PT1H
X-Robots-Tag:noindex
X-PUBLISHED-TTL:PT1H
BEGIN:VTIMEZONE
TZID:America/New_York
BEGIN:DAYLIGHT
TZOFFSETFROM:-0500
TZOFFSETTO:-0400
TZNAME:EDT
DTSTART:20220313T070000
END:DAYLIGHT
BEGIN:STANDARD
TZOFFSETFROM:-0400
TZOFFSETTO:-0500
TZNAME:EST
DTSTART:20221106T060000
END:STANDARD
BEGIN:DAYLIGHT
TZOFFSETFROM:-0500
TZOFFSETTO:-0400
TZNAME:EDT
DTSTART:20230312T070000
END:DAYLIGHT
BEGIN:STANDARD
TZOFFSETFROM:-0400
TZOFFSETTO:-0500
TZNAME:EST
DTSTART:20231105T060000
END:STANDARD
BEGIN:DAYLIGHT
TZOFFSETFROM:-0500
TZOFFSETTO:-0400
TZNAME:EDT
DTSTART:20240310T070000
END:DAYLIGHT
BEGIN:STANDARD
TZOFFSETFROM:-0400
TZOFFSETTO:-0500
TZNAME:EST
DTSTART:20241103T060000
END:STANDARD
END:VTIMEZONE
BEGIN:VEVENT
DTSTART;TZID=America/New_York:20230413T173000
DTEND;TZID=America/New_York:20230413T173000
DTSTAMP:20260420T191241
CREATED:20230331T151434Z
LAST-MODIFIED:20231119T192559Z
UID:17457-1681407000-1681407000@sregionlaval.ca
SUMMARY:50e du Comité intersyndical du Montréal métropolitain (CIMM)
DESCRIPTION:Le Syndicat de l’enseignement de la région de Laval (SERL) membre du CIMM\, vous invite à participer au coquetel du 50e anniversaire de sa création. Il vous sera possible d’échanger avec les autres organisations syndicales et de connaitre les luttes menées par le CIMM. \nDepuis sa création\, le CIMM se veut avant tout un regroupement des forces syndicales de la grande région du Montréal métropolitain (Montréal\, Laval et Rive-Sud). Il intervient sur les enjeux syndicaux\, mais aussi sociaux\, économiques et politiques. Le CIMM contribue à bâtir la justice sociale par la solidarité en luttant contre la pauvreté et les inégalités d’accès aux services publics. Il fait la promotion du développement durable ainsi que du maintien de la création des emplois de qualité. \nLe CIMM est un lieu d’échange et de concertation qui peut agir comme porte-parole pour des luttes syndicales\, régionales\, municipales et scolaires. Il est aussi un centre stratégique de mobilisation régionale\, syndicale et populaire. Finalement\, il s’avère être un excellent moyen de promotion du syndicalisme organisé. \n  \n\n\n\n\n Un coquetel \n Jour :            Jeudi 13 avril 2023 \nHeure :          17 H 30  \nEndroit :    Écomusée du Fier Monde\n                    2050\, rue Atateken\, Montréal H2L 3L8\n  \n \n\n\n\n  \nSi vous êtes intéressés\, veuillez s’il vous plaît confirmer votre présence auprès du secrétariat du Syndicat de l’enseignement de la région de Laval (SERL) par courriel\, à reception@sregionlaval.ca ou par téléphone\, au 450 978-1513. \n  \nVoir l’invitation officielle ICI
URL:https://sregionlaval.ca/event/50e-du-comite-intersyndical-du-montreal-metropolitain-cimm/
LOCATION:Écomusée du Fier Monde\, 2050 rue Atateken\, Montréal\, Qc\, H2L 3L8\, Canada
CATEGORIES:Évènements
END:VEVENT
END:VCALENDAR