BEGIN:VCALENDAR
VERSION:2.0
PRODID:-//SERL - ECPv6.15.16//NONSGML v1.0//EN
CALSCALE:GREGORIAN
METHOD:PUBLISH
X-WR-CALNAME:SERL
X-ORIGINAL-URL:https://sregionlaval.ca
X-WR-CALDESC:Événements pour SERL
REFRESH-INTERVAL;VALUE=DURATION:PT1H
X-Robots-Tag:noindex
X-PUBLISHED-TTL:PT1H
BEGIN:VTIMEZONE
TZID:America/New_York
BEGIN:DAYLIGHT
TZOFFSETFROM:-0500
TZOFFSETTO:-0400
TZNAME:EDT
DTSTART:20250309T070000
END:DAYLIGHT
BEGIN:STANDARD
TZOFFSETFROM:-0400
TZOFFSETTO:-0500
TZNAME:EST
DTSTART:20251102T060000
END:STANDARD
BEGIN:DAYLIGHT
TZOFFSETFROM:-0500
TZOFFSETTO:-0400
TZNAME:EDT
DTSTART:20260308T070000
END:DAYLIGHT
BEGIN:STANDARD
TZOFFSETFROM:-0400
TZOFFSETTO:-0500
TZNAME:EST
DTSTART:20261101T060000
END:STANDARD
BEGIN:DAYLIGHT
TZOFFSETFROM:-0500
TZOFFSETTO:-0400
TZNAME:EDT
DTSTART:20270314T070000
END:DAYLIGHT
BEGIN:STANDARD
TZOFFSETFROM:-0400
TZOFFSETTO:-0500
TZNAME:EST
DTSTART:20271107T060000
END:STANDARD
END:VTIMEZONE
BEGIN:VEVENT
DTSTART;TZID=America/New_York:20260505T170000
DTEND;TZID=America/New_York:20260505T190000
DTSTAMP:20260424T094233
CREATED:20260423T152111Z
LAST-MODIFIED:20260423T152111Z
UID:29721-1778000400-1778007600@sregionlaval.ca
SUMMARY:Invitation-Aux enseignantes et aux enseignants à statut précaire
DESCRIPTION:Le Syndicat de l’enseignement de la région de Laval (SERL) vous invite à une séance d’information sur le régime de l’assurance-emploi\, par le Mouvement action-chômage. \nVoir l’invitation officielle ICI.
URL:https://sregionlaval.ca/event/invitation-aux-enseignantes-et-aux-enseignants-a-statut-precaire/
LOCATION:Syndicat de l’enseignement de la région de Laval\, 1717 rue Fleetwood\, Laval
CATEGORIES:Évènements
ATTACH;FMTTYPE=application/pdf:https://sregionlaval.ca/wp-content/uploads/2026/04/2526-018-Enseignants-statut-precaire-1.pdf
END:VEVENT
END:VCALENDAR